BEGIN:VCALENDAR
VERSION:2.0
PRODID:-//hacksw/handcal//NONSGML v1.0//EN
BEGIN:VEVENT
SUMMARY:U9 - 3eme Module U11 - Journee 1 a Valognes
UID:2a0ab729-cbb6-4d21-adeb-98b322120ab6
DTSTART:20260425T071000Z
DTEND:20260425T093000Z
LOCATION:Localisation Stade Georges Pillet de Valognes - ASV 50700 Valognes
CATEGORIES:Sportif
STATUS:
DESCRIPTION:<table align="center" border="1" cellpadding="1"
 cellspacing="1" style="width:200px;">
 	<tbody>
 		<tr>
 			<td
 style="background-color:#000066;text-align:center;">
 			<p><span
 style="font-size:14px;"><span style="color:#ff0000;"><u><strong>Heure
 du RDV</strong></u></span></span></p>
 			</td>
 			<td
 style="text-align:center;"> 9h10 </td>
 			<td
 style="background-color:#000066;text-align:center;">
 			<p> <span
 style="color:#ff0000;"><u><strong>Lieu de RDV
 </strong></u></span></p>
 			</td>
 			<td
 style="width:150px;text-align:center;">
 			<p>Vestiaire du
 stade</p>
 			</td>
 		</tr>
 		<tr>
 			<td
 style="background-color:#000066;text-align:center;">
 			<p><span
 style="color:#ff0000;"><u><strong><span
 style="font-size:medium;">Heure
 du match</span></strong></u></span></p>
 			</td>
 			<td colspan="3"
 style="height:25px;width:15px;text-align:center;">
 			<p><span
 style="font-size:20px;"><b>10h00</b></span></p>
 
 			<p><span
 style="font-size:20px;"><b>Stade Georges
 PILLET </b></span></p>
 			</td>
 		</tr>
 		<tr>
 			<td
 style="background-color:rgb(0,0,102);text-align:center;"><span
 style="color:#ff0000;"><u><strong>Dirigeants</strong></u></span></td>
 			<td
 colspan="3" style="height:25px;width:15px;">
 			<p
 style="text-align:center;"><em>Marc :
 06.30.53.04.21‬</em></p>
 
 			<p
 style="text-align:center;"><em>Matteo, Bruno.</em></p>
 			</td>
 		</tr>
 		<tr>
 			<td
 style="background-color:rgb(0,0,102);text-align:center;"><span
 style="color:#ff0000;"><u><strong>Observations</strong></u></span></td>
 			<td
 colspan="3">
 			<p style="text-align:center;">Prevoir equipement dont
 une paire de crampons + k-way du club + chaussettes du club +
 proteges tibias + gourde individuelle avec votre
 nom.</p>
 			</td>
 		</tr>
 	</tbody>
 </table>
 
 <p
 style="text-align:justify;">Seras tu present ?</p>
 
 <p
 style="text-align:justify;"><strong>Merci de me repondre des que
 possible.</strong></p>
 
 <p style="text-align:justify;">A mercredi
 pour l'entrainement ! </p>
 
 <p
 style="text-align:justify;"> </p>
 
 <p
 style="text-align:justify;"><em>Les Educateurs.</em></p>
 
 <p
 style="text-align:justify;"><em>Marc RENOUF - Referent Categorie
 U8/U9 pour la saison 2025/2026 -
 06.30.53.04.21</em></p>
 
 <p> </p>
 
 <p> </p>
 
 <p> </p>
 
 <p> </p>
URL;VALUE=URI:https://www.asvalognesfootball.com/evenements/2026/04/25/u9-3eme-module-u11-journee-1-a-valognes-2345403
END:VEVENT
END:VCALENDAR
