BEGIN:VCALENDAR
VERSION:2.0
PRODID:-//hacksw/handcal//NONSGML v1.0//EN
BEGIN:VEVENT
SUMMARY:U8/U9 - Plateau Secteur A - N3 - Montebourg
UID:cff5e47e-0479-4918-86eb-63c775471cfb
DTSTART:20260411T070000Z
DTEND:20260411T094500Z
LOCATION:Localisation Stade Lecacheux 50310 Montebourg
CATEGORIES:Sportif
STATUS:
DESCRIPTION:<table align="center" border="1" cellpadding="1"
 cellspacing="1" style="width:200px;">
 	<tbody>
 		<tr>
 			<td
 style="background-color:#000066;text-align:center;">
 			<p><span
 style="font-size:14px;"><span style="color:#ff0000;"><u><strong>Heure
 du RDV</strong></u></span></span></p>
 			</td>
 			<td
 style="text-align:center;"> 9h00 </td>
 			<td
 style="background-color:#000066;text-align:center;">
 			<p> <span
 style="color:#ff0000;"><u><strong>Lieu de RDV
 </strong></u></span></p>
 			</td>
 			<td
 style="width:150px;text-align:center;">Parking du
 stade</td>
 		</tr>
 		<tr>
 			<td
 style="background-color:#000066;text-align:center;">
 			<p><span
 style="color:#ff0000;"><u><strong><span
 style="font-size:medium;">Heure
 du match</span></strong></u></span></p>
 			</td>
 			<td colspan="3"
 style="height:25px;width:15px;text-align:center;">
 			<p><span
 style="font-size:20px;"><b>10h00</b></span></p>
 
 			<p><span
 style="font-size:20px;"><b>Stade de
 Montebourg</b></span></p>
 			</td>
 		</tr>
 		<tr>
 			<td
 style="background-color:rgb(0,0,102);text-align:center;"><span
 style="color:#ff0000;"><u><strong>Dirigeants</strong></u></span></td>
 			<td
 colspan="3" style="height:25px;width:15px;">
 			<p
 style="text-align:center;"><em>Marc : 06 30 53 04
 21‬</em></p>
 			</td>
 		</tr>
 		<tr>
 			<td
 style="background-color:rgb(0,0,102);text-align:center;"><span
 style="color:#ff0000;"><u><strong>Observations</strong></u></span></td>
 			<td
 colspan="3">
 			<p style="text-align:center;">Prevoir equipement dont
 une paire de crampons + le k-way et les chaussettes du club +
 proteges tibias + gourde individuelle avec votre
 nom.</p>
 			</td>
 		</tr>
 	</tbody>
 </table>
 
 <p
 style="text-align:justify;">Bonjour a tous,</p>
 
 <p
 style="text-align:justify;">pour ce week end, et les suivants, nous
 avons besoins du <u>soutiens de plusieurs parents pour assurer le
 transport des enfants</u> vers les sites des plateaux. Pouvez vous,
 s'il vous plait, repondre a la convocation avant mercredi soir, pour
 que je puisse renvoyer la liste des joueurs sur les differents sites
 aux clubs organisateurs (jeudi matin, premieres heures). </p>
 
 <p
 style="text-align:justify;">Quand vous cliquez sur le lien "je serai
 present", le site va vous demander l'option de covoiturage
 : </p>
 
 <p style="text-align:justify;">Veuillez repondre, "j'ai
 besoin d'1 place" si vous ne pouvez pas emmener votre enfant sur le
 site du match.</p>
 
 <p style="text-align:justify;">Veuillez repondre,
 "je propose X place(s)" si vous pouvez emmener des enfants sur le
 site du match.</p>
 
 <p style="text-align:justify;">Veuillez repondre,
 "je ne passe pas par le lieu de covoiturage" si vous emmener
 directement votre enfant sur le site du match. Au passage, dans ce
 cas de figure, veuillez egalement <u>m'envoyer un sms</u> pour que je
 comptabilise qui va directement sur place sans passer par Valognes
 (notamment si vos covoiturez d'autres enfants).</p>
 
 <p
 style="text-align:justify;">J'attire votre attention sur le fait que
 par manque de vehicules accompagnants, nous serons dans l'obligation
 d'annuler notre presence aux plateaux. </p>
 
 <p
 style="text-align:justify;">Merci de votre comprehension et de votre
 implication, afin de realiser une jolie saison avec nos petits
 joueurs.</p>
 
 <p style="text-align:justify;">Bon dimanche et a
 mercredi.</p>
 
 <p style="text-align:justify;">Les Educateurs.</p>
 
 <p
 style="text-align:justify;">Marc RENOUF - Referent Categorie U8/U9
 pour la saison 2025/2026 -
 06.30.53.04.21</p>
 
 <p> </p>
 
 <p> </p>
 
 <p> </p>
 
 <p> </p>
URL;VALUE=URI:https://www.asvalognesfootball.com/evenements/2026/04/11/u8u9-plateau-secteur-a-n3-montebourg-2299365
END:VEVENT
END:VCALENDAR
