BEGIN:VCALENDAR
VERSION:2.0
PRODID:-//hacksw/handcal//NONSGML v1.0//EN
BEGIN:VEVENT
SUMMARY:U13C ASV - BLANCS - Championnat J4 vs FC 3 Rivieres 2 a Canisy
UID:6886d0ca-a1d5-47e1-8367-6e836074c0b2
DTSTART:20260411T091500Z
DTEND:20260411T133000Z
LOCATION:Localisation 15 rue du stade  Canisy
CATEGORIES:Sportif
STATUS:
DESCRIPTION:<p> </p>
 
 <table align="center" border="1"
 cellpadding="1" cellspacing="1"
 style="width:500px;">
 	<tbody>
 		<tr>
 			<td
 style="background-color:#000066;text-align:center;">
 			<p><span
 style="font-size:14px;"><span style="color:#ff0000;"><u><strong>Heure
 du RDV</strong></u></span></span></p>
 			</td>
 			<td
 style="text-align:center;">
 			<p><strong><span
 style="font-size:medium;"> 11h15</span></strong></p>
 			</td>
 			<td
 style="background-color:#000066;text-align:center;">
 			<p> <span
 style="color:#ff0000;"><u><strong>Lieu de RDV
 </strong></u></span></p>
 			</td>
 			<td
 style="width:150px;text-align:center;">
 			<p>Parking <br>
 			du
 stade de Valognes </p>
 			</td>
 		</tr>
 		<tr>
 			<td
 style="background-color:#000066;text-align:center;">
 			<p><span
 style="color:#ff0000;"><u><strong><span
 style="font-size:medium;">Heure
 du match</span></strong></u></span></p>
 			</td>
 			<td colspan="3"
 style="height:25px;width:15px;text-align:center;">
 			<p><span
 style="font-size:20px;"><b>13h15</b></span></p>
 
 			<p><span
 style="font-size:20px;"><b>Stade de
 Canisy</b></span></p>
 			</td>
 		</tr>
 		<tr>
 			<td
 style="background-color:rgb(0,0,102);text-align:center;"><span
 style="color:#ff0000;"><u><strong>Dirigeants</strong></u></span></td>
 			<td
 colspan="3" style="height:25px;width:15px;">
 			<p
 style="text-align:center;">Mohamed HADDAD    06 70 26 49
 79 </p>
 
 			<p style="text-align:center;">Sylvain SIMON     06 61
 95 65 77</p>
 			</td>
 		</tr>
 		<tr>
 			<td
 style="background-color:rgb(0,0,102);text-align:center;"><span
 style="color:#ff0000;"><u><strong>Observations</strong></u></span></td>
 			<td
 colspan="3">
 			<p style="text-align:center;">Prevoir equipement
 habituel dont coupe-vent + gourde
 individuelle.</p>
 			</td>
 		</tr>
 	</tbody>
 </table>
 
 <p
 style="text-align:center;"><span style="color:#ff0000;"><u>Pour les
 matchs a l'exterieur, pensez a repondre au covoiturage apres la
 validation de la presence de votre enfant</u></span></p>
 
 <p
 style="text-align:center;">/!\ prevenez l'encadrant de l'equipe par
 SMS si vous allez directement sur place</p>
URL;VALUE=URI:https://www.asvalognesfootball.com/evenements/2026/04/11/u13c-asv-blancs-championnat-j4-vs-fc-3-rivieres-2-a-canisy-2411616
END:VEVENT
END:VCALENDAR
