BEGIN:VCALENDAR
VERSION:2.0
PRODID:-//hacksw/handcal//NONSGML v1.0//EN
BEGIN:VEVENT
SUMMARY:REUNION PRESENTATION STAGE AVRIL 2026
UID:971341e4-ae8d-4b1f-bd11-4ab2b0603182
DTSTART:20260408T151500Z
DTEND:20260408T161500Z
LOCATION:Localisation CLUB HOUSE - STADE GEORGES PILLET 50700 VALOGNES
CATEGORIES:Stage
STATUS:
DESCRIPTION:<p>Reunion presentation stage avril 2026.</p>
 
 <p>Remise
 des sweats et polos. </p>
URL;VALUE=URI:https://www.asvalognesfootball.com/evenements/2026/04/08/reunion-presentation-stage-avril-2026-2438289
END:VEVENT
END:VCALENDAR
