BEGIN:VCALENDAR
VERSION:2.0
PRODID:-//hacksw/handcal//NONSGML v1.0//EN
BEGIN:VEVENT
SUMMARY:u12/u11 Match amical vs AST a Tourlaville
UID:b499e42f-e743-4343-b8e8-12f0d59318e2
DTSTART:20250618T113000Z
DTEND:20250618T150000Z
LOCATION:Localisation Stade Georges Fatome  50110 Tourlaville 
CATEGORIES:Sportif
STATUS:
DESCRIPTION:<p>Match amical a 15h</p>
 
 <p>Rdv a Valognes a 13h30 ou
 sur place a 13h55</p>
 
 <p>Prevoir l'equipement habituel : chaussettes
 club, proteges-tibia et gourdes + change</p>
 
URL;VALUE=URI:https://www.asvalognesfootball.com/evenements/2025/06/18/u12u11-match-amical-vs-ast-a-tourlaville-2232031
END:VEVENT
END:VCALENDAR
